BEGIN:VCALENDAR
VERSION:2.0
PRODID:-//St. Mary&#039;s University - ECPv6.7.0//NONSGML v1.0//EN
CALSCALE:GREGORIAN
METHOD:PUBLISH
X-ORIGINAL-URL:https://stmu.ca
X-WR-CALDESC:Events for St. Mary&#039;s University
REFRESH-INTERVAL;VALUE=DURATION:PT1H
X-Robots-Tag:noindex
X-PUBLISHED-TTL:PT1H
BEGIN:VTIMEZONE
TZID:UTC
BEGIN:STANDARD
TZOFFSETFROM:+0000
TZOFFSETTO:+0000
TZNAME:UTC
DTSTART:20240101T000000
END:STANDARD
END:VTIMEZONE
BEGIN:VEVENT
DTSTART;TZID=UTC:20241028T114500
DTEND;TZID=UTC:20241028T122500
DTSTAMP:20260421T072340
CREATED:20240917T214826Z
LAST-MODIFIED:20240917T215851Z
UID:10000058-1730115900-1730118300@stmu.ca
SUMMARY:Group Exercise
DESCRIPTION:M100 Mondays | 11:45 AM – 12:15 PM \nBonus Stretch Session | 12:15 PM – 12:25 PM \nJust $10 (+50¢ GST) – Pay at the Fitness Centre before class! \nThis class is for everyone – all fitness levels welcome! Whether you’re looking for a quick energy boost\, building strength\, improving flexibility\, or just moving your body\, this class is all about what YOU need. \nLet’s take a break and move together!
URL:https://stmu.ca/event/group-exercise-3/
LOCATION:McGivney Hall\, 14500 Bannister Road\, Calgary\, Alberta\, Canada
ATTACH;FMTTYPE=image/png:https://stmu.ca/wp-content/uploads/2024/09/Group-Exercise-Instagram-Post.png
END:VEVENT
BEGIN:VEVENT
DTSTART;TZID=UTC:20241028T114500
DTEND;TZID=UTC:20241028T124500
DTSTAMP:20260421T072340
CREATED:20241005T013030Z
LAST-MODIFIED:20241005T013030Z
UID:10000080-1730115900-1730119500@stmu.ca
SUMMARY:Bachelor of Education Information Session
DESCRIPTION:Join us for an in-person information session about fabulous Bachelor of Education program! We will be focusing on the admission requirements for Fall 2025 and attendees will have the opportunity to ask Bachelor of Education staff and faculty questions about the program.
URL:https://stmu.ca/event/bachelor-of-education-information-session-2/
LOCATION:B104
ATTACH;FMTTYPE=image/jpeg:https://stmu.ca/wp-content/uploads/2024/10/BEd-Admissions-Media-Events.jpg
END:VEVENT
END:VCALENDAR