BEGIN:VCALENDAR
VERSION:2.0
PRODID:-//St. Mary&#039;s University - ECPv6.7.0//NONSGML v1.0//EN
CALSCALE:GREGORIAN
METHOD:PUBLISH
X-ORIGINAL-URL:https://stmu.ca
X-WR-CALDESC:Events for St. Mary&#039;s University
REFRESH-INTERVAL;VALUE=DURATION:PT1H
X-Robots-Tag:noindex
X-PUBLISHED-TTL:PT1H
BEGIN:VTIMEZONE
TZID:America/Edmonton
BEGIN:DAYLIGHT
TZOFFSETFROM:-0700
TZOFFSETTO:-0600
TZNAME:MDT
DTSTART:20260308T090000
END:DAYLIGHT
BEGIN:STANDARD
TZOFFSETFROM:-0600
TZOFFSETTO:-0700
TZNAME:MST
DTSTART:20261101T080000
END:STANDARD
END:VTIMEZONE
BEGIN:VEVENT
DTSTART;TZID=America/Edmonton:20260213T160000
DTEND;TZID=America/Edmonton:20260213T170000
DTSTAMP:20260424T031257
CREATED:20260122T192949Z
LAST-MODIFIED:20260122T192951Z
UID:10000168-1770998400-1771002000@stmu.ca
SUMMARY:Darwin Day with Dr. Matthew Morris
DESCRIPTION:Darwin famously wrote “If it could be demonstrated that any complex organexisted\, which could not possibly have been formed by numerous\, successive\,slight modifications\, my theory would absolutely break down.” This riskyprediction generated two different sorts of debate: the first among biologists ofthe late nineteenth and early twentieth centuries who debated whether Darwin’sclaim was correct – must evolution be gradual? – and the other from present-daycreationists who argue that certain complex traits refute Darwin’s claim. Yet apartial solution to both was already hinted at by Darwin: organismal bodies areflexible. Phenotypes can change under different environmental stimuli\, and thiscan happen rapidly\, dramatically\, and in a coordinated fashion. Dr. Morris willintroduce the concept of phenotypic plasticity\, the capacity of a single genotypeto produce multiple environmentally determined phenotypes\, and suggest thatsome modern critiques of Darwin can be put to rest through an understandingof what Darwin called that “most perplexing subject.”
URL:https://stmu.ca/event/darwin-day-with-dr-matthew-morris/
LOCATION:McGivney Hall\, 14500 Bannister Road\, Calgary\, Alberta\, Canada
ATTACH;FMTTYPE=application/pdf:https://stmu.ca/wp-content/uploads/2026/01/Darwin-Day-2026.pdf
END:VEVENT
END:VCALENDAR