BEGIN:VCALENDAR
VERSION:2.0
PRODID:-//St. Mary&#039;s University - ECPv6.7.0//NONSGML v1.0//EN
CALSCALE:GREGORIAN
METHOD:PUBLISH
X-WR-CALNAME:St. Mary&#039;s University
X-ORIGINAL-URL:https://stmu.ca
X-WR-CALDESC:Events for St. Mary&#039;s University
REFRESH-INTERVAL;VALUE=DURATION:PT1H
X-Robots-Tag:noindex
X-PUBLISHED-TTL:PT1H
BEGIN:VTIMEZONE
TZID:America/Edmonton
BEGIN:DAYLIGHT
TZOFFSETFROM:-0700
TZOFFSETTO:-0600
TZNAME:MDT
DTSTART:20260308T090000
END:DAYLIGHT
BEGIN:STANDARD
TZOFFSETFROM:-0600
TZOFFSETTO:-0700
TZNAME:MST
DTSTART:20261101T080000
END:STANDARD
END:VTIMEZONE
BEGIN:VEVENT
DTSTART;TZID=America/Edmonton:20260227T180000
DTEND;TZID=America/Edmonton:20260301T140000
DTSTAMP:20260419T152305
CREATED:20251219T072535Z
LAST-MODIFIED:20260223T234727Z
UID:10000163-1772215200-1772373600@stmu.ca
SUMMARY:StMU Student Retreat
DESCRIPTION:Awakening is a weekend retreat for university students to take a break from the busyness of campus life and make space for something deeper. \n\n\n\nAt the Awakening Retreat\, through community\, prayer\, joy\, and time for intentional discussion\, you’ll be invited to reflect on your life and your faith and beliefs. \n\n\n\nRegistration is closed for 2026\, and we can’t wait to host you 2027.\n\n\n\nWe invite you to come as you are and we can’t wait to host you. \n\n\n\nDates: Friday evening\, February 27 – Sunday midday\, March 1 \n\n\n\nLocation: InterVarsity Pioneer Camp Lodge (Sundre\, AB) 32134 Range Rd 63\, Sundre\, AB T0M 1X0 (Updated Address)Transportation: Let us know in the registration form if you need a ride or if you can give a ride.
URL:https://stmu.ca/event/stmu-student-retreat/
LOCATION:Alberta
ATTACH;FMTTYPE=image/png:https://stmu.ca/wp-content/uploads/2025/12/2026-Awakening-Student-Retreat-Graphic-scaled.png
END:VEVENT
END:VCALENDAR