BEGIN:VCALENDAR
VERSION:2.0
PRODID:-//St. Mary&#039;s University - ECPv6.7.0//NONSGML v1.0//EN
CALSCALE:GREGORIAN
METHOD:PUBLISH
X-ORIGINAL-URL:https://stmu.ca
X-WR-CALDESC:Events for St. Mary&#039;s University
REFRESH-INTERVAL;VALUE=DURATION:PT1H
X-Robots-Tag:noindex
X-PUBLISHED-TTL:PT1H
BEGIN:VTIMEZONE
TZID:America/Edmonton
BEGIN:DAYLIGHT
TZOFFSETFROM:-0700
TZOFFSETTO:-0600
TZNAME:MDT
DTSTART:20250309T090000
END:DAYLIGHT
BEGIN:STANDARD
TZOFFSETFROM:-0600
TZOFFSETTO:-0700
TZNAME:MST
DTSTART:20251102T080000
END:STANDARD
TZID:UTC
BEGIN:STANDARD
TZOFFSETFROM:+0000
TZOFFSETTO:+0000
TZNAME:UTC
DTSTART:20240101T000000
END:STANDARD
END:VTIMEZONE
BEGIN:VEVENT
DTSTART;TZID=America/Edmonton:20251022T113000
DTEND;TZID=America/Edmonton:20251022T120000
DTSTAMP:20260423T001215
CREATED:20250909T145936Z
LAST-MODIFIED:20250909T145938Z
UID:10000145-1761132600-1761134400@stmu.ca
SUMMARY:Weekly Mass
DESCRIPTION:We warmly invite you to join us for Mass Wednesday\, October 22 at 11:30 a.m. in McGivney Hall (M100). This cherished tradition is a wonderful opportunity to come together in faith and fellowship as we seek blessings for the year ahead.
URL:https://stmu.ca/event/weekly-mass-14/
LOCATION:McGivney Hall\, 14500 Bannister Road\, Calgary\, Alberta\, Canada
CATEGORIES:Campus Ministry
ATTACH;FMTTYPE=image/jpeg:https://stmu.ca/wp-content/uploads/2024/09/CampusMiistryLogo_Primary.jpg
END:VEVENT
BEGIN:VEVENT
DTSTART;TZID=America/Edmonton:20251015T113000
DTEND;TZID=America/Edmonton:20251015T120000
DTSTAMP:20260423T001215
CREATED:20250909T145532Z
LAST-MODIFIED:20250909T145535Z
UID:10000144-1760527800-1760529600@stmu.ca
SUMMARY:Weekly Mass
DESCRIPTION:We warmly invite you to join us for Mass Wednesday\, October 15 at 11:30 a.m. in McGivney Hall (M100). This cherished tradition is a wonderful opportunity to come together in faith and fellowship as we seek blessings for the year ahead.
URL:https://stmu.ca/event/weekly-mass-13/
LOCATION:McGivney Hall\, 14500 Bannister Road\, Calgary\, Alberta\, Canada
CATEGORIES:Campus Ministry
ATTACH;FMTTYPE=image/jpeg:https://stmu.ca/wp-content/uploads/2024/09/CampusMiistryLogo_Primary.jpg
END:VEVENT
BEGIN:VEVENT
DTSTART;TZID=America/Edmonton:20251008T113000
DTEND;TZID=America/Edmonton:20251008T120000
DTSTAMP:20260423T001215
CREATED:20250909T145343Z
LAST-MODIFIED:20250909T145632Z
UID:10000143-1759923000-1759924800@stmu.ca
SUMMARY:Weekly Mass
DESCRIPTION:We warmly invite you to join us for Mass Wednesday\, October 8 at 11:30 a.m. in McGivney Hall (M100). This cherished tradition is a wonderful opportunity to come together in faith and fellowship as we seek blessings for the year ahead.
URL:https://stmu.ca/event/weekly-mass-12/
LOCATION:McGivney Hall\, 14500 Bannister Road\, Calgary\, Alberta\, Canada
CATEGORIES:Campus Ministry
ATTACH;FMTTYPE=image/jpeg:https://stmu.ca/wp-content/uploads/2024/09/CampusMiistryLogo_Primary.jpg
END:VEVENT
BEGIN:VEVENT
DTSTART;TZID=America/Edmonton:20251001T113000
DTEND;TZID=America/Edmonton:20251001T120000
DTSTAMP:20260423T001215
CREATED:20250904T163122Z
LAST-MODIFIED:20250909T145742Z
UID:10000135-1759318200-1759320000@stmu.ca
SUMMARY:Weekly Mass
DESCRIPTION:We warmly invite you to join us for Mass Wednesday\, October 1 at 11:30 a.m. in McGivney Hall (M100). This cherished tradition is a wonderful opportunity to come together in faith and fellowship as we seek blessings for the year ahead.
URL:https://stmu.ca/event/weekly-mass-11/
LOCATION:McGivney Hall\, 14500 Bannister Road\, Calgary\, Alberta\, Canada
CATEGORIES:Campus Ministry
ATTACH;FMTTYPE=image/jpeg:https://stmu.ca/wp-content/uploads/2024/09/CampusMiistryLogo_Primary.jpg
END:VEVENT
BEGIN:VEVENT
DTSTART;TZID=America/Edmonton:20250924T113000
DTEND;TZID=America/Edmonton:20250924T120000
DTSTAMP:20260423T001215
CREATED:20250903T204854Z
LAST-MODIFIED:20250903T204856Z
UID:10000133-1758713400-1758715200@stmu.ca
SUMMARY:Weekly Mass
DESCRIPTION:We warmly invite you to join us for Mass Wednesday\, September 24 at 11:30 a.m. in McGivney Hall (M100). This cherished tradition is a wonderful opportunity to come together in faith and fellowship as we seek blessings for the year ahead.
URL:https://stmu.ca/event/weekly-mass-10/
LOCATION:McGivney Hall\, 14500 Bannister Road\, Calgary\, Alberta\, Canada
CATEGORIES:Campus Ministry
ATTACH;FMTTYPE=image/jpeg:https://stmu.ca/wp-content/uploads/2024/09/CampusMiistryLogo_Primary.jpg
END:VEVENT
BEGIN:VEVENT
DTSTART;TZID=America/Edmonton:20250917T113000
DTEND;TZID=America/Edmonton:20250917T120000
DTSTAMP:20260423T001215
CREATED:20250903T195511Z
LAST-MODIFIED:20250903T195610Z
UID:10000131-1758108600-1758110400@stmu.ca
SUMMARY:Weekly Mass
DESCRIPTION:We warmly invite you to join us for Mass Wednesday\, September 17 at 11:30 a.m. in McGivney Hall (M100). This cherished tradition is a wonderful opportunity to come together in faith and fellowship as we seek blessings for the year ahead.
URL:https://stmu.ca/event/weekly-mass-9/
LOCATION:McGivney Hall\, 14500 Bannister Road\, Calgary\, Alberta\, Canada
CATEGORIES:Campus Ministry
ATTACH;FMTTYPE=image/jpeg:https://stmu.ca/wp-content/uploads/2024/09/CampusMiistryLogo_Primary.jpg
END:VEVENT
BEGIN:VEVENT
DTSTART;TZID=America/Edmonton:20250910T113000
DTEND;TZID=America/Edmonton:20250910T120000
DTSTAMP:20260423T001215
CREATED:20250903T195218Z
LAST-MODIFIED:20250903T195221Z
UID:10000130-1757503800-1757505600@stmu.ca
SUMMARY:Opening Term Mass
DESCRIPTION:We warmly invite you to join us for Mass Wednesday\, September 10 at 11:30 a.m. in McGivney Hall (M100). This cherished tradition is a wonderful opportunity to come together in faith and fellowship as we seek blessings for the year ahead.
URL:https://stmu.ca/event/opening-term-mass-4/
LOCATION:McGivney Hall\, 14500 Bannister Road\, Calgary\, Alberta\, Canada
CATEGORIES:Campus Ministry
ATTACH;FMTTYPE=image/jpeg:https://stmu.ca/wp-content/uploads/2024/09/CampusMiistryLogo_Primary.jpg
END:VEVENT
BEGIN:VEVENT
DTSTART;TZID=UTC:20241204T113000
DTEND;TZID=UTC:20241204T120000
DTSTAMP:20260423T001215
CREATED:20240917T222527Z
LAST-MODIFIED:20240917T222527Z
UID:10000066-1733311800-1733313600@stmu.ca
SUMMARY:End of Term Mass
DESCRIPTION:We warmly invite you to join us for Mass Wednesday\, December 4 at 11:30 a.m. in McGivney Hall (M100). This cherished tradition is a wonderful opportunity to come together in faith and fellowship as we seek blessings for the year ahead. \nFollowing the Mass\, we will gather for a community lunch\, where we can connect with one another.
URL:https://stmu.ca/event/end-of-term-mass/
LOCATION:McGivney Hall\, 14500 Bannister Road\, Calgary\, Alberta\, Canada
CATEGORIES:Campus Ministry
ATTACH;FMTTYPE=image/jpeg:https://stmu.ca/wp-content/uploads/2024/09/CampusMiistryLogo_Primary.jpg
END:VEVENT
BEGIN:VEVENT
DTSTART;TZID=UTC:20241127T113000
DTEND;TZID=UTC:20241127T120000
DTSTAMP:20260423T001215
CREATED:20240917T222219Z
LAST-MODIFIED:20240917T222231Z
UID:10000065-1732707000-1732708800@stmu.ca
SUMMARY:Weekly Mass
DESCRIPTION:We warmly invite you to join us for Mass Wednesday\, November 27 at 11:30 a.m. in McGivney Hall (M100). This cherished tradition is a wonderful opportunity to come together in faith and fellowship as we seek blessings for the year ahead. \nFollowing the Mass\, we will gather for a community lunch\, where we can connect with one another.
URL:https://stmu.ca/event/weekly-mass-8/
LOCATION:McGivney Hall\, 14500 Bannister Road\, Calgary\, Alberta\, Canada
CATEGORIES:Campus Ministry
ATTACH;FMTTYPE=image/jpeg:https://stmu.ca/wp-content/uploads/2024/09/CampusMiistryLogo_Primary.jpg
END:VEVENT
BEGIN:VEVENT
DTSTART;TZID=UTC:20241120T113000
DTEND;TZID=UTC:20241120T120000
DTSTAMP:20260423T001215
CREATED:20240917T221645Z
LAST-MODIFIED:20240917T221645Z
UID:10000064-1732102200-1732104000@stmu.ca
SUMMARY:Weekly Mass
DESCRIPTION:We warmly invite you to join us for Mass Wednesday\, November 20 at 11:30 a.m. in McGivney Hall (M100). This cherished tradition is a wonderful opportunity to come together in faith and fellowship as we seek blessings for the year ahead. \nFollowing the Mass\, we will gather for snacks where we can connect with one another.
URL:https://stmu.ca/event/weekly-mass-7/
LOCATION:McGivney Hall\, 14500 Bannister Road\, Calgary\, Alberta\, Canada
CATEGORIES:Campus Ministry
ATTACH;FMTTYPE=image/jpeg:https://stmu.ca/wp-content/uploads/2024/09/CampusMiistryLogo_Primary.jpg
END:VEVENT
BEGIN:VEVENT
DTSTART;TZID=UTC:20241106T113000
DTEND;TZID=UTC:20241106T120000
DTSTAMP:20260423T001215
CREATED:20240917T221501Z
LAST-MODIFIED:20240917T221927Z
UID:10000063-1730892600-1730894400@stmu.ca
SUMMARY:Weekly Mass
DESCRIPTION:We warmly invite you to join us for Mass Wednesday\, November 6 at 11:30 a.m. in McGivney Hall (M100). This cherished tradition is a wonderful opportunity to come together in faith and fellowship as we seek blessings for the year ahead. \nFollowing the Mass\, we will gather for a community lunch\, where we can connect with one another.
URL:https://stmu.ca/event/14939/
LOCATION:McGivney Hall\, 14500 Bannister Road\, Calgary\, Alberta\, Canada
CATEGORIES:Campus Ministry
ATTACH;FMTTYPE=image/jpeg:https://stmu.ca/wp-content/uploads/2024/09/CampusMiistryLogo_Primary.jpg
END:VEVENT
BEGIN:VEVENT
DTSTART;TZID=UTC:20241030T113000
DTEND;TZID=UTC:20241030T120000
DTSTAMP:20260423T001215
CREATED:20240917T202151Z
LAST-MODIFIED:20240917T202151Z
UID:10000054-1730287800-1730289600@stmu.ca
SUMMARY:Weekly Mass
DESCRIPTION:We warmly invite you to join us for Mass Wednesday\, October 30 at 11:30 a.m. in McGivney Hall (M100). This cherished tradition is a wonderful opportunity to come together in faith and fellowship as we seek blessings for the year ahead. \nFollowing the Mass\, we will gather for snacks where we can connect with one another.
URL:https://stmu.ca/event/weekly-mass-6/
LOCATION:McGivney Hall\, 14500 Bannister Road\, Calgary\, Alberta\, Canada
CATEGORIES:Campus Ministry
ATTACH;FMTTYPE=image/jpeg:https://stmu.ca/wp-content/uploads/2024/09/CampusMiistryLogo_Primary.jpg
END:VEVENT
BEGIN:VEVENT
DTSTART;TZID=UTC:20241023T113000
DTEND;TZID=UTC:20241023T120000
DTSTAMP:20260423T001215
CREATED:20240917T201108Z
LAST-MODIFIED:20240917T201108Z
UID:10000053-1729683000-1729684800@stmu.ca
SUMMARY:Weekly Mass
DESCRIPTION:We warmly invite you to join us for Mass Wednesday\, October 23 at 11:30 a.m. in McGivney Hall (M100). This cherished tradition is a wonderful opportunity to come together in faith and fellowship as we seek blessings for the year ahead. \nFollowing the Mass\, we will gather for a community lunch\, where we can connect with one another.
URL:https://stmu.ca/event/weekly-mass-5/
LOCATION:McGivney Hall\, 14500 Bannister Road\, Calgary\, Alberta\, Canada
CATEGORIES:Campus Ministry
ATTACH;FMTTYPE=image/jpeg:https://stmu.ca/wp-content/uploads/2024/09/CampusMiistryLogo_Primary.jpg
END:VEVENT
BEGIN:VEVENT
DTSTART;TZID=UTC:20241016T113000
DTEND;TZID=UTC:20241016T120000
DTSTAMP:20260423T001215
CREATED:20240917T200921Z
LAST-MODIFIED:20240917T201554Z
UID:10000052-1729078200-1729080000@stmu.ca
SUMMARY:Weekly Mass
DESCRIPTION:We warmly invite you to join us for Mass Wednesday\, October 16 at 11:30 a.m. in McGivney Hall (M100). This cherished tradition is a wonderful opportunity to come together in faith and fellowship as we seek blessings for the year ahead. \nFollowing the Mass\, we will gather for snacks where we can connect with one another.
URL:https://stmu.ca/event/14922/
LOCATION:McGivney Hall\, 14500 Bannister Road\, Calgary\, Alberta\, Canada
CATEGORIES:Campus Ministry
ATTACH;FMTTYPE=image/jpeg:https://stmu.ca/wp-content/uploads/2024/09/CampusMiistryLogo_Primary.jpg
END:VEVENT
BEGIN:VEVENT
DTSTART;TZID=UTC:20241009T113000
DTEND;TZID=UTC:20241009T120000
DTSTAMP:20260423T001215
CREATED:20240917T200424Z
LAST-MODIFIED:20240917T200448Z
UID:10000051-1728473400-1728475200@stmu.ca
SUMMARY:Weekly Mass
DESCRIPTION:We warmly invite you to join us for Mass Wednesday\, October 9 at 11:30 a.m. in McGivney Hall (M100). This cherished tradition is a wonderful opportunity to come together in faith and fellowship as we seek blessings for the year ahead. \nFollowing the Mass\, we will gather for a community lunch\, where we can connect with one another.
URL:https://stmu.ca/event/weekly-mass-4/
LOCATION:McGivney Hall\, 14500 Bannister Road\, Calgary\, Alberta\, Canada
CATEGORIES:Campus Ministry
ATTACH;FMTTYPE=image/jpeg:https://stmu.ca/wp-content/uploads/2024/09/CampusMiistryLogo_Primary.jpg
END:VEVENT
BEGIN:VEVENT
DTSTART;TZID=UTC:20241002T113000
DTEND;TZID=UTC:20241002T120000
DTSTAMP:20260423T001215
CREATED:20240916T210239Z
LAST-MODIFIED:20240917T201504Z
UID:10000048-1727868600-1727870400@stmu.ca
SUMMARY:Weekly Mass
DESCRIPTION:We warmly invite you to join us for Mass Wednesday\, October 2 at 11:30 a.m. in McGivney Hall (M100). This cherished tradition is a wonderful opportunity to come together in faith and fellowship as we seek blessings for the year ahead. \nFollowing the Mass\, we will gather for snacks where we can connect with one another.
URL:https://stmu.ca/event/weekly-mass-3/
LOCATION:McGivney Hall\, 14500 Bannister Road\, Calgary\, Alberta\, Canada
CATEGORIES:Campus Ministry
ATTACH;FMTTYPE=image/jpeg:https://stmu.ca/wp-content/uploads/2024/09/CampusMiistryLogo_Primary.jpg
END:VEVENT
BEGIN:VEVENT
DTSTART;TZID=UTC:20240925T113000
DTEND;TZID=UTC:20240925T120000
DTSTAMP:20260423T001215
CREATED:20240913T022917Z
LAST-MODIFIED:20240917T200622Z
UID:10000045-1727263800-1727265600@stmu.ca
SUMMARY:Weekly Mass
DESCRIPTION:We warmly invite you to join us for Mass Wednesday\, September 25 at 11:30 a.m. in McGivney Hall (M100). This cherished tradition is a wonderful opportunity to come together in faith and fellowship as we seek blessings for the year ahead. \nFollowing the Mass\, we will gather for a community lunch\, where we can connect with one another.
URL:https://stmu.ca/event/weekly-mass-2/
LOCATION:McGivney Hall\, 14500 Bannister Road\, Calgary\, Alberta\, Canada
CATEGORIES:Campus Ministry
ATTACH;FMTTYPE=image/jpeg:https://stmu.ca/wp-content/uploads/2024/09/CampusMiistryLogo_Primary.jpg
END:VEVENT
BEGIN:VEVENT
DTSTART;TZID=UTC:20240918T113000
DTEND;TZID=UTC:20240918T120000
DTSTAMP:20260423T001215
CREATED:20240913T020828Z
LAST-MODIFIED:20240917T201413Z
UID:10000044-1726659000-1726660800@stmu.ca
SUMMARY:Weekly Mass
DESCRIPTION:We warmly invite you to join us for Mass Wednesday\, September 18 at 11:30 a.m. in McGivney Hall (M100). This cherished tradition is a wonderful opportunity to come together in faith and fellowship as we seek blessings for the year ahead. \nFollowing the Mass\, we will gather for snacks where we can connect with one another.
URL:https://stmu.ca/event/weekly-mass/
LOCATION:McGivney Hall\, 14500 Bannister Road\, Calgary\, Alberta\, Canada
CATEGORIES:Campus Ministry
ATTACH;FMTTYPE=image/jpeg:https://stmu.ca/wp-content/uploads/2024/09/CampusMiistryLogo_Primary.jpg
END:VEVENT
BEGIN:VEVENT
DTSTART;TZID=UTC:20240531T190000
DTEND;TZID=UTC:20240531T210000
DTSTAMP:20260423T001215
CREATED:20240409T202407Z
LAST-MODIFIED:20240409T202447Z
UID:10000033-1717182000-1717189200@stmu.ca
SUMMARY:1st Annual Mass to consecrate St. Mary’s University to Mary
DESCRIPTION:On May 31\, Bishop William McGrattan will celebrate the 1st Annual Consecration Mass of St. Mary’s University to Mary\, the Mother of God! \nNow what is a Marian Consecration you may ask? The definition for the word “consecrate” is to “dedicate formally to a religious or divine source”. A Marian consecration is the act of entrusting one’s entire life to the protection\, guidance\, and intercession of Mary. Consecrating the university to Mary means entrusting all activities\, studies\, and members of the St. Mary’s Community to her maternal care. \nWe invite all friends\, members\, and visitors of the university to join us for Mass with Bishop McGrattan on the Feast Day of the Visitation\, May 31\, starting at 7:00pm in M100 of McGivney Hall and a reception to follow.
URL:https://stmu.ca/event/1st-annual-mass-to-consecrate-st-marys-university-to-mary/
LOCATION:McGivney Hall\, 14500 Bannister Road\, Calgary\, Alberta\, Canada
CATEGORIES:Campus Ministry
ATTACH;FMTTYPE=image/jpeg:https://stmu.ca/wp-content/uploads/2024/04/Marys-Fest_Mass.jpg
END:VEVENT
BEGIN:VEVENT
DTSTART;TZID=UTC:20240403T113000
DTEND;TZID=UTC:20240403T133000
DTSTAMP:20260423T001215
CREATED:20240329T024723Z
LAST-MODIFIED:20240329T024723Z
UID:10000031-1712143800-1712151000@stmu.ca
SUMMARY:Campus Mass with Bishop McGrattan
DESCRIPTION:All are welcome to join our campus Mass with Bishop McGrattan. Lunch to follow. \nLocated in M100 of McGivney Hall\, St. Mary’s University \n 
URL:https://stmu.ca/event/campus-mass-with-bishop-mcgrattan/
LOCATION:McGivney Hall\, 14500 Bannister Road\, Calgary\, Alberta\, Canada
CATEGORIES:Campus Ministry
ATTACH;FMTTYPE=image/png:https://stmu.ca/wp-content/uploads/2024/03/Mass-with-the-Bishop-April-3-003.png
END:VEVENT
BEGIN:VEVENT
DTSTART;TZID=UTC:20240329T090000
DTEND;TZID=UTC:20240329T110000
DTSTAMP:20260423T001215
CREATED:20240320T220804Z
LAST-MODIFIED:20240320T220804Z
UID:10000029-1711702800-1711710000@stmu.ca
SUMMARY:Outdoor Way of the Cross with Bishop McGrattan
DESCRIPTION:All are invited to join Bishop McGrattan on the Outdoor Way of the Cross on Good Friday! Please note the new route this year that begins at St. Mary’s University (starting point: the Water Tower) and leads us to the Father Lacombe Centre. \nRemember to dress appropriately for the outdoors. Stations booklet will be made available at this page closer to the date. ​\n​​ \n\nWhen: Good Friday\, March 29 at 9 am\nWhere: St. Mary’s University (14500 Bannister Road SE\, Calgary) to Father Lacombe Centre. Please gather at St. Mary’s University Water Tower.\nHow to get there:\n\nBy c-train: Take the Fish Creek-Lacombe Station stop. Please gather at the Water Tower.\nDriving: St. Mary’s University\, park on the street on Providence Blvd. SE\, or park at the Fish Creek-Lacombe Station parking lot and use the walking bridge to the university campus. Please gather at the Water Tower.
URL:https://stmu.ca/event/wayofthecross/
LOCATION:St. Mary’s University Campus\, 14500 Bannister Road\, Calgary\, Alberta\, T2X1Z4
CATEGORIES:Campus Ministry
ATTACH;FMTTYPE=image/jpeg:https://stmu.ca/wp-content/uploads/2024/03/Way-of-the-Cross-Poster-JPG.jpg
END:VEVENT
BEGIN:VEVENT
DTSTART;TZID=UTC:20240126T160000
DTEND;TZID=UTC:20240128T160000
DTSTAMP:20260423T001215
CREATED:20240118T031918Z
LAST-MODIFIED:20240118T031918Z
UID:10000008-1706284800-1706457600@stmu.ca
SUMMARY:Nunc Coepi ("Now I Begin") Retreat
DESCRIPTION:Join us at Salem Acres Bible Camp for a restful weekend facilitated by St. Mary’s University’s Campus Ministry. We welcome you to escape the city at our Nunc Coepi Retreat. This in-person event guarantees a refreshing break from your daily routine and a chance to deepen your faith and friendships. You won’t want to miss out on this awesome weekend
URL:https://stmu.ca/event/nunc-coepi-now-i-begin-retreat/
LOCATION:Salem Acres Bible Camp\, Alberta 590\, Elnora\, AB\, Canada\, 21442 Alberta 590\, Elnora\, Alberta\, T0M 0Y0\, Canada
CATEGORIES:Campus Ministry
ATTACH;FMTTYPE=image/png:https://stmu.ca/wp-content/uploads/2024/01/Retreat-Poster-2.png
END:VEVENT
END:VCALENDAR