BEGIN:VCALENDAR
VERSION:2.0
PRODID:-//St. Mary&#039;s University - ECPv6.7.0//NONSGML v1.0//EN
CALSCALE:GREGORIAN
METHOD:PUBLISH
X-WR-CALNAME:St. Mary&#039;s University
X-ORIGINAL-URL:https://stmu.ca
X-WR-CALDESC:Events for St. Mary&#039;s University
REFRESH-INTERVAL;VALUE=DURATION:PT1H
X-Robots-Tag:noindex
X-PUBLISHED-TTL:PT1H
BEGIN:VTIMEZONE
TZID:UTC
BEGIN:STANDARD
TZOFFSETFROM:+0000
TZOFFSETTO:+0000
TZNAME:UTC
DTSTART:20240101T000000
END:STANDARD
END:VTIMEZONE
BEGIN:VEVENT
DTSTART;TZID=UTC:20240912T190000
DTEND;TZID=UTC:20240912T210000
DTSTAMP:20260423T075200
CREATED:20240720T004733Z
LAST-MODIFIED:20240720T005154Z
UID:10000038-1726167600-1726174800@stmu.ca
SUMMARY:Inspiration Unplugged Catholic Lecture Series presents the CWL Annual Lecture ft. Dr. Brett Salkeld
DESCRIPTION:What makes for an authentically Catholic education? Many things\, surely\, but essential among them is teaching every subject from a Catholic point of view\, often called curriculum permeation. Catholic education cannot be reduced to a secular education with a religion elective. Such an arrangement itself disintegrates the unity of truth and suggests that life’s biggest questions are an optional extra to the real business of education. Rather\, a truly Catholic education understands that every subject provides its own proper lens for approaching the truth of creation and ultimately God. \n\n\n\nBut this raises several valid questions. What does an orientation towards God mean for the legitimate earthly goals of education\, like marketable skills or responsible citizenship? What does a Catholic approach to every subject mean for the rightful autonomy of those subjects? How is what is being proposed here not indoctrination? And\, finally\, what does this look like in practice? In subjects like music\, or language arts\, or world languages\, it is easy to imagine adding Catholic content\, but how does this work in math or science where adding Catholic content seems awkward or impossible? \n\n\n\nJoin Dr. Brett Salkeld\, author of the award-winning Educating for Eternity: A Teacher’s Companion for Making Every Class Catholic to explore these questions at the Annual CWL Lecture at St. Mary’s University on Thursday\, Sept. 12. \n\n\n\nLight refreshments will be provided.
URL:https://stmu.ca/event/inspiration-unplugged-catholic-lecture-series-presents-the-cwl-annual-lecture-ft-dr-brett-salkeld/
LOCATION:Alberta
ATTACH;FMTTYPE=image/jpeg:https://stmu.ca/wp-content/uploads/2024/07/Brett-Salkeld_eventbrite-1.jpg
END:VEVENT
BEGIN:VEVENT
DTSTART;TZID=UTC:20240916T114500
DTEND;TZID=UTC:20240916T122500
DTSTAMP:20260423T075200
CREATED:20240914T012308Z
LAST-MODIFIED:20240914T012520Z
UID:10000046-1726487100-1726489500@stmu.ca
SUMMARY:Group Exercise
DESCRIPTION:M100 Mondays | 11:45 AM – 12:15 PM \nBonus Stretch Session | 12:15 PM – 12:25 PM \nJust $10 (+50¢ GST) – Pay at the Fitness Centre before class! \nThis class is for everyone – all fitness levels welcome! Whether you’re looking for a quick energy boost\, building strength\, improving flexibility\, or just moving your body\, this class is all about what YOU need. \nLet’s take a break and move together!
URL:https://stmu.ca/event/group-exercise/
LOCATION:McGivney Hall\, 14500 Bannister Road\, Calgary\, Alberta\, Canada
ATTACH;FMTTYPE=image/png:https://stmu.ca/wp-content/uploads/2024/09/Group-Exercise-Instagram-Post.png
END:VEVENT
BEGIN:VEVENT
DTSTART;TZID=UTC:20240917T113000
DTEND;TZID=UTC:20240917T123000
DTSTAMP:20260423T075200
CREATED:20240913T011425Z
LAST-MODIFIED:20240913T011425Z
UID:10000041-1726572600-1726576200@stmu.ca
SUMMARY:Terry Fox Run
DESCRIPTION:St. Mary’s University is getting ready for the 2024 Terry Fox School Run! We’re excited to take part in this annual tradition that supports cancer research while building school spirit. For this year’s Terry Fox School Run\, we will #TryLikeTerry! Terry never quit on his dream of a world without cancer\, and neither will we. We welcome any students\, staff\, and faculty to register\, walk or run\, or simply donate. Please support our fundraising efforts and donate today.
URL:https://stmu.ca/event/terry-fox-run-2/
LOCATION:Alberta
ATTACH;FMTTYPE=image/png:https://stmu.ca/wp-content/uploads/2024/09/terry2.png
END:VEVENT
BEGIN:VEVENT
DTSTART;TZID=UTC:20240917T143000
DTEND;TZID=UTC:20240917T154500
DTSTAMP:20260423T075200
CREATED:20240913T012530Z
LAST-MODIFIED:20240913T012644Z
UID:10000042-1726583400-1726587900@stmu.ca
SUMMARY:Open Class - History 449: The History of Religion in Canada
DESCRIPTION:Tuesday\, September 17: Indigenous Ceremony and Circle Teachings \nJoin us for an enlightening open class session as we welcome Elder Wanda First Rider\, a respected Blackfoot spiritual leader\, who will share her profound insights on Blackfoot spirituality prior to European contact. \n 
URL:https://stmu.ca/event/open-class-history-449-the-history-of-religion-in-canada/
LOCATION:LeFort Centre\, L101\, 14500 Bannister Road\, Calgary\, AB\, T2Z1Z4
CATEGORIES:Academics
ATTACH;FMTTYPE=image/png:https://stmu.ca/wp-content/uploads/2024/09/FNMI-logo.png
END:VEVENT
BEGIN:VEVENT
DTSTART;TZID=UTC:20240918T113000
DTEND;TZID=UTC:20240918T120000
DTSTAMP:20260423T075200
CREATED:20240913T020828Z
LAST-MODIFIED:20240917T201413Z
UID:10000044-1726659000-1726660800@stmu.ca
SUMMARY:Weekly Mass
DESCRIPTION:We warmly invite you to join us for Mass Wednesday\, September 18 at 11:30 a.m. in McGivney Hall (M100). This cherished tradition is a wonderful opportunity to come together in faith and fellowship as we seek blessings for the year ahead. \nFollowing the Mass\, we will gather for snacks where we can connect with one another.
URL:https://stmu.ca/event/weekly-mass/
LOCATION:McGivney Hall\, 14500 Bannister Road\, Calgary\, Alberta\, Canada
CATEGORIES:Campus Ministry
ATTACH;FMTTYPE=image/jpeg:https://stmu.ca/wp-content/uploads/2024/09/CampusMiistryLogo_Primary.jpg
END:VEVENT
BEGIN:VEVENT
DTSTART;TZID=UTC:20240919T113000
DTEND;TZID=UTC:20240919T123000
DTSTAMP:20260423T075200
CREATED:20240916T211433Z
LAST-MODIFIED:20240917T030315Z
UID:10000049-1726745400-1726749000@stmu.ca
SUMMARY:Faculty Colloquium Series: Fall 2024 with Dr. Trent Davis\, Associate Professor of Education
DESCRIPTION:
URL:https://stmu.ca/event/faculty-colloquium-series-fall-2024-with-trent-davis-associate-professor-of-education/
LOCATION:McGivney Hall\, 14500 Bannister Road\, Calgary\, Alberta\, Canada
CATEGORIES:Academics
ATTACH;FMTTYPE=image/png:https://stmu.ca/wp-content/uploads/2024/09/thumbnail_000.png
END:VEVENT
BEGIN:VEVENT
DTSTART;TZID=UTC:20240920T133000
DTEND;TZID=UTC:20240920T153000
DTSTAMP:20260423T075200
CREATED:20240913T014852Z
LAST-MODIFIED:20240913T015148Z
UID:10000043-1726839000-1726846200@stmu.ca
SUMMARY:Film & Discussion
DESCRIPTION:The theme for the 2024 National Day for Truth and Reconciliation is Remembering the Children. The EDI committee invites you to view the film We Were Children\, which provides insight into the experiences of young children entering Canadian government residential schools. Following the film\, we invite you to engage in a discussion about the legacies of the residential school system and how we can honour survivors and their families as members of the StMU Team.
URL:https://stmu.ca/event/film-discussion/
LOCATION:H100\, 14500 Bannister Road SE\, Calgary\, Alberta\, T2X 1Z4\, Canada
ATTACH;FMTTYPE=image/jpeg:https://stmu.ca/wp-content/uploads/2024/09/We-were-Children_screening-poster-scaled.jpg
END:VEVENT
BEGIN:VEVENT
DTSTART;TZID=UTC:20240923T114500
DTEND;TZID=UTC:20240923T122500
DTSTAMP:20260423T075200
CREATED:20240917T025540Z
LAST-MODIFIED:20240918T223853Z
UID:10000050-1727091900-1727094300@stmu.ca
SUMMARY:Outdoor Group Exercise
DESCRIPTION:Mondays | 11:45 AM – 12:15 PM \nBonus Stretch Session | 12:15 PM – 12:25 PM \nJust $10 (+50¢ GST) – Pay at the Fitness Centre before class! \nThis class is for everyone – all fitness levels welcome! Whether you’re looking for a quick energy boost\, building strength\, improving flexibility\, or just moving your body\, this class is all about what YOU need. \nPlease meet at the fitness centre prior to class. \nLet’s take a break and move together!
URL:https://stmu.ca/event/outdoor-group-exercise-weather-permitting/
LOCATION:St. Mary’s University Campus\, 14500 Bannister Road\, Calgary\, Alberta\, T2X1Z4
ATTACH;FMTTYPE=image/png:https://stmu.ca/wp-content/uploads/2024/09/Group-Exercise-Instagram-Post.png
END:VEVENT
BEGIN:VEVENT
DTSTART;TZID=UTC:20240924T130000
DTEND;TZID=UTC:20240924T143000
DTSTAMP:20260423T075200
CREATED:20240919T232029Z
LAST-MODIFIED:20240919T232215Z
UID:10000067-1727182800-1727188200@stmu.ca
SUMMARY:Let's Play Pickleball
DESCRIPTION:Let’s Play Pickleball!!\n🗓️ Tuesday\, September 24\n⌚️ Drop In Anytime Between 1-2:30pm\n▶️ All Abilities/Experience Welcome\n😁Just Fun. Not Competitive.\n📍The New STMU Pickleball Courts (Behind Admin)\n 
URL:https://stmu.ca/event/lets-play-pickleball/
LOCATION:St. Mary’s University Campus\, 14500 Bannister Road\, Calgary\, Alberta\, T2X1Z4
ATTACH;FMTTYPE=image/png:https://stmu.ca/wp-content/uploads/2024/09/Orange-Blue-Illustration-Lets-Play-Pickleball-Your-Story-Instagram-Post.png
ORGANIZER;CN="Lightning Athletics":MAILTO:Athletics@stmu.ca
END:VEVENT
BEGIN:VEVENT
DTSTART;TZID=UTC:20240925T113000
DTEND;TZID=UTC:20240925T120000
DTSTAMP:20260423T075201
CREATED:20240913T022917Z
LAST-MODIFIED:20240917T200622Z
UID:10000045-1727263800-1727265600@stmu.ca
SUMMARY:Weekly Mass
DESCRIPTION:We warmly invite you to join us for Mass Wednesday\, September 25 at 11:30 a.m. in McGivney Hall (M100). This cherished tradition is a wonderful opportunity to come together in faith and fellowship as we seek blessings for the year ahead. \nFollowing the Mass\, we will gather for a community lunch\, where we can connect with one another.
URL:https://stmu.ca/event/weekly-mass-2/
LOCATION:McGivney Hall\, 14500 Bannister Road\, Calgary\, Alberta\, Canada
CATEGORIES:Campus Ministry
ATTACH;FMTTYPE=image/jpeg:https://stmu.ca/wp-content/uploads/2024/09/CampusMiistryLogo_Primary.jpg
END:VEVENT
BEGIN:VEVENT
DTSTART;VALUE=DATE:20240927
DTEND;VALUE=DATE:20240928
DTSTAMP:20260423T075201
CREATED:20240924T224747Z
LAST-MODIFIED:20240925T002558Z
UID:10000075-1727395200-1727481599@stmu.ca
SUMMARY:Orange Shirt Day
DESCRIPTION:This Friday\, September 27th the St. Mary’s community is asked to wear Orange Shirts to honour the National Day of Truth and Reconciliation on September 30th.\n\nCampus will be closed to staff\, faculty and students on Monday\, September 30th in observance of National Day for Truth and Reconciliation. This is a day to reflect on the role we can all play in reconciliation\, and to recognize and honour residential school survivors\, their families and communities\n\nOrange shirts are available for purchase at the bookstore.\n\nResources\n\nPlease click link to find activities around Calgary to attend https://www.calgary.ca/events/orange-shirt-day.html
URL:https://stmu.ca/event/orange-shirt-day/
LOCATION:Alberta
ATTACH;FMTTYPE=image/jpeg:https://stmu.ca/wp-content/uploads/2024/09/Truth-and-Reconcialtion_IG-1080x1080_2024.jpg
END:VEVENT
BEGIN:VEVENT
DTSTART;TZID=UTC:20240928T120000
DTEND;TZID=UTC:20240928T140000
DTSTAMP:20260423T075201
CREATED:20240920T005501Z
LAST-MODIFIED:20240920T010709Z
UID:10000073-1727524800-1727532000@stmu.ca
SUMMARY:Cross Country ACAC Grand Prix #4
DESCRIPTION:ACAC Cross Country Running Is Coming To STMU\n  \n🏃‍♀️ Women’s Race at 12pm\n🏃 Men’s Race at 1pm\n📢 Come Cheer On The Lightning ⚡️
URL:https://stmu.ca/event/cross-country-acac-grand-prix-4/
LOCATION:Alberta
CATEGORIES:Cross Country
ATTACH;FMTTYPE=image/png:https://stmu.ca/wp-content/uploads/2024/09/202445-pOS-1.png
END:VEVENT
BEGIN:VEVENT
DTSTART;TZID=UTC:20240930T114500
DTEND;TZID=UTC:20240930T122500
DTSTAMP:20260423T075201
CREATED:20240914T020033Z
LAST-MODIFIED:20240914T020033Z
UID:10000047-1727696700-1727699100@stmu.ca
SUMMARY:Group Exercise
DESCRIPTION:M100 Mondays | 11:45 AM – 12:15 PM \nBonus Stretch Session | 12:15 PM – 12:25 PM \nJust $10 (+50¢ GST) – Pay at the Fitness Centre before class! \nThis class is for everyone – all fitness levels welcome! Whether you’re looking for a quick energy boost\, building strength\, improving flexibility\, or just moving your body\, this class is all about what YOU need. \nLet’s take a break and move together!
URL:https://stmu.ca/event/group-exercise-2/
LOCATION:McGivney Hall\, 14500 Bannister Road\, Calgary\, Alberta\, Canada
ATTACH;FMTTYPE=image/png:https://stmu.ca/wp-content/uploads/2024/09/Group-Exercise-Instagram-Post.png
END:VEVENT
END:VCALENDAR