BEGIN:VCALENDAR
VERSION:2.0
PRODID:-//St. Mary&#039;s University - ECPv6.7.0//NONSGML v1.0//EN
CALSCALE:GREGORIAN
METHOD:PUBLISH
X-WR-CALNAME:St. Mary&#039;s University
X-ORIGINAL-URL:https://stmu.ca
X-WR-CALDESC:Events for St. Mary&#039;s University
REFRESH-INTERVAL;VALUE=DURATION:PT1H
X-Robots-Tag:noindex
X-PUBLISHED-TTL:PT1H
BEGIN:VTIMEZONE
TZID:UTC
BEGIN:STANDARD
TZOFFSETFROM:+0000
TZOFFSETTO:+0000
TZNAME:UTC
DTSTART:20250101T000000
END:STANDARD
END:VTIMEZONE
BEGIN:VEVENT
DTSTART;TZID=UTC:20250305T113000
DTEND;TZID=UTC:20250305T120000
DTSTAMP:20260423T193954
CREATED:20250305T035246Z
LAST-MODIFIED:20250305T035629Z
UID:10000118-1741174200-1741176000@stmu.ca
SUMMARY:Ash Wednesday
DESCRIPTION:Ash Wednesday Mass at 11:30am in M100. \nConfessions are available starting at 11:00am.
URL:https://stmu.ca/event/ash-wednesday/
LOCATION:McGivney Hall\, 14500 Bannister Road\, Calgary\, Alberta\, Canada
ATTACH;FMTTYPE=image/png:https://stmu.ca/wp-content/uploads/2025/03/Ash-Wednesday-Mass-.png
END:VEVENT
BEGIN:VEVENT
DTSTART;TZID=UTC:20250306T180000
DTEND;TZID=UTC:20250306T220000
DTSTAMP:20260423T193954
CREATED:20241221T015951Z
LAST-MODIFIED:20250128T233618Z
UID:10000103-1741284000-1741298400@stmu.ca
SUMMARY:The 2025 St. Mary's University President's Gala
DESCRIPTION:2025 St. Mary’s University President’s Gala\nThursday\, March 6\, 2025 \nCocktails: 6:00 p.m. ~ Dinner: 7:00 p.m.\nTickets $250 each\nTables of 8 for $2\,000\nFormal/Black-Tie Optional: Dark Suit or Tuxedo/ Gown or Cocktail Dress \nHeritage Park – Gasoline Alley\n1900 Heritage Dr. SW\, Calgary\, AB T2V 2X3 \nProceeds from the President’s Gala support student success at\nSt. Mary’s and the pursuit of academic excellence. \n  \nPURCHASE TICKETS HERE
URL:https://stmu.ca/event/the-2025-st-marys-university-presidents-gala/
LOCATION:Alberta
ATTACH;FMTTYPE=image/jpeg:https://stmu.ca/wp-content/uploads/2024/12/PD2024_web-header-1897x980-1.jpg
END:VEVENT
BEGIN:VEVENT
DTSTART;TZID=UTC:20250312T143000
DTEND;TZID=UTC:20250312T153000
DTSTAMP:20260423T193954
CREATED:20250220T023313Z
LAST-MODIFIED:20250220T023852Z
UID:10000111-1741789800-1741793400@stmu.ca
SUMMARY:Faculty Colloquium Series: Winter 2025 with Dr. Matthew Risling\, Assistant Professor\, English
DESCRIPTION:“What It Means to Be Horse: The Cosmic Horror\, and Humour\, of Gulliver’s Travels” \nFREE & Open to All!
URL:https://stmu.ca/event/faculty-colloquium-series-winter-2025-with-dr-matthew-risling-assistant-professor-english/
LOCATION:McGivney Hall\, 14500 Bannister Road\, Calgary\, Alberta\, Canada
CATEGORIES:Academics
ATTACH;FMTTYPE=image/png:https://stmu.ca/wp-content/uploads/2025/02/Dr.-Matthew-Risling.png
END:VEVENT
BEGIN:VEVENT
DTSTART;TZID=UTC:20250317T190000
DTEND;TZID=UTC:20250317T220000
DTSTAMP:20260423T193954
CREATED:20250213T025431Z
LAST-MODIFIED:20250214T042651Z
UID:10000109-1742238000-1742248800@stmu.ca
SUMMARY:God Squad Presents - The Litany of St. Joseph
DESCRIPTION:God Squad Canada invites you to the World Premiere performance of the Litany of St. Joseph in Song.\n\n\n\n\n\n\n\n\n\n\n\n\n\n\n\n\n\n\n\nSt. Mary’s University is proud to support God Squad Canada in their mission to strengthen faith and community through meaningful initiatives. Our ongoing partnership is rooted in a shared dedication to fostering spiritual growth and engagement. As part of this commitment\, we are pleased to help bring awareness to this special event\, which celebrates the rich traditions of the Catholic faith through music and devotion to St. Joseph\, the Patron Saint of Canada. \n  \nThis fun and family-friendly musical event is of interest to all men\, women and families who appreciate the beauty of the Catholic faith with voices set to music and raised in joyful praise. \nThe whole event is focused on honoring St. Joseph\, who is the Patron Saint of Canada. \nOur aim is to enrich the spiritual lives of Catholics worldwide. The Litany of St. Joseph in Song is a testament to the enduring power of music to inspire and uplift. \n\n\n\n\nBuy Now!\n\n\n\n\n\n\n\n\n\n\n\n\n\n\n\n\nYou will also experience performances from selected choirs representing all corners of the Calgary Catholic Diocese. The evening will crescendo with the first public performance of this highly-anticipated original work by Alberta’s own award-winning and accomplished conductor Carlos Foggin. \nThis Premiere is part of the 2025 Jubilee Year Celebrations as Pilgrims of Hope within the Diocese of Calgary and world-wide. This is a once-in-a-lifetime opportunity you won’t want to miss. \n 
URL:https://stmu.ca/event/god-squad-presents-the-litany-of-st-joseph/
LOCATION:Jack Singer Concert Hall
ATTACH;FMTTYPE=image/png:https://stmu.ca/wp-content/uploads/2025/02/Litany-of-St-Joseph-2025-1034x774-1-1024x767-1.png
END:VEVENT
BEGIN:VEVENT
DTSTART;TZID=UTC:20250321T190000
DTEND;TZID=UTC:20250321T210000
DTSTAMP:20260423T193954
CREATED:20250227T225138Z
LAST-MODIFIED:20250228T221349Z
UID:10000112-1742583600-1742590800@stmu.ca
SUMMARY:StMU Drama Presents - Winter Break by Joe Calarco
DESCRIPTION:Winter Break by Joe Calarco\nOn the first night of Winter Break\, nineteen teenagers\, some who know each other\, some who don’t\, wrestle with friendships\, breakups\, loss\, graduating\, and finding their place in the world. Alternately hilarious and touching.\n  \nPURCHASE TICKETS HERE
URL:https://stmu.ca/event/stmu-drama-presents-winter-break-by-joe-calarco/2025-03-21/
LOCATION:Alberta
CATEGORIES:Drama
ATTACH;FMTTYPE=image/jpeg:https://stmu.ca/wp-content/uploads/2025/02/winter-break-poster-2.jpg
END:VEVENT
BEGIN:VEVENT
DTSTART;TZID=UTC:20250322T140000
DTEND;TZID=UTC:20250322T163000
DTSTAMP:20260423T193954
CREATED:20250227T225138Z
LAST-MODIFIED:20250228T221349Z
UID:10000113-1742652000-1742661000@stmu.ca
SUMMARY:StMU Drama Presents - Winter Break by Joe Calarco
DESCRIPTION:Winter Break by Joe Calarco\nOn the first night of Winter Break\, nineteen teenagers\, some who know each other\, some who don’t\, wrestle with friendships\, breakups\, loss\, graduating\, and finding their place in the world. Alternately hilarious and touching.\n  \nPURCHASE TICKETS HERE
URL:https://stmu.ca/event/stmu-drama-presents-winter-break-by-joe-calarco/2025-03-22/1/
LOCATION:Alberta
CATEGORIES:Drama
ATTACH;FMTTYPE=image/jpeg:https://stmu.ca/wp-content/uploads/2025/02/winter-break-poster-2.jpg
END:VEVENT
BEGIN:VEVENT
DTSTART;TZID=UTC:20250322T190000
DTEND;TZID=UTC:20250322T210000
DTSTAMP:20260423T193954
CREATED:20250227T225138Z
LAST-MODIFIED:20250228T221349Z
UID:10000114-1742670000-1742677200@stmu.ca
SUMMARY:StMU Drama Presents - Winter Break by Joe Calarco
DESCRIPTION:Winter Break by Joe Calarco\nOn the first night of Winter Break\, nineteen teenagers\, some who know each other\, some who don’t\, wrestle with friendships\, breakups\, loss\, graduating\, and finding their place in the world. Alternately hilarious and touching.\n  \nPURCHASE TICKETS HERE
URL:https://stmu.ca/event/stmu-drama-presents-winter-break-by-joe-calarco/2025-03-22/2/
LOCATION:Alberta
CATEGORIES:Drama
ATTACH;FMTTYPE=image/jpeg:https://stmu.ca/wp-content/uploads/2025/02/winter-break-poster-2.jpg
END:VEVENT
BEGIN:VEVENT
DTSTART;TZID=UTC:20250328T190000
DTEND;TZID=UTC:20250328T210000
DTSTAMP:20260423T193954
CREATED:20250228T222037Z
LAST-MODIFIED:20250228T222103Z
UID:10000115-1743188400-1743195600@stmu.ca
SUMMARY:StMU Drama Presents - Burrows of the Mind
DESCRIPTION:Burrows of the Mind – Written and Performed by The STMU Drama 203 Acting Ensemble\nDuring a weekend retreat an eclectic and colourful group of women forge friendships\, confront themselves and each other\, as they face the challenge to grow. But\, on their compelling journey together things don’t always go as planned while sharing thoughts\, feelings and laughs with friends old and new.\n\nPURCHASE TICKETS HERE
URL:https://stmu.ca/event/stmu-drama-presents-burrows-of-the-mind/2025-03-28/
LOCATION:St. Mary’s University Campus – Owerko Hall\, 14500 Bannister Road\, Calgary\, Alberta\, T2X1Z4\, Canada
CATEGORIES:Drama
ATTACH;FMTTYPE=image/jpeg:https://stmu.ca/wp-content/uploads/2025/02/Burrows_20250227_223022_0000.jpg
END:VEVENT
BEGIN:VEVENT
DTSTART;TZID=UTC:20250329T140000
DTEND;TZID=UTC:20250329T160000
DTSTAMP:20260423T193954
CREATED:20250228T222037Z
LAST-MODIFIED:20250228T222103Z
UID:10000116-1743256800-1743264000@stmu.ca
SUMMARY:StMU Drama Presents - Burrows of the Mind
DESCRIPTION:Burrows of the Mind – Written and Performed by The STMU Drama 203 Acting Ensemble\nDuring a weekend retreat an eclectic and colourful group of women forge friendships\, confront themselves and each other\, as they face the challenge to grow. But\, on their compelling journey together things don’t always go as planned while sharing thoughts\, feelings and laughs with friends old and new.\n\nPURCHASE TICKETS HERE
URL:https://stmu.ca/event/stmu-drama-presents-burrows-of-the-mind/2025-03-29/1/
LOCATION:St. Mary’s University Campus – Owerko Hall\, 14500 Bannister Road\, Calgary\, Alberta\, T2X1Z4\, Canada
CATEGORIES:Drama
ATTACH;FMTTYPE=image/jpeg:https://stmu.ca/wp-content/uploads/2025/02/Burrows_20250227_223022_0000.jpg
END:VEVENT
BEGIN:VEVENT
DTSTART;TZID=UTC:20250329T190000
DTEND;TZID=UTC:20250329T210000
DTSTAMP:20260423T193954
CREATED:20250228T222037Z
LAST-MODIFIED:20250228T222103Z
UID:10000117-1743274800-1743282000@stmu.ca
SUMMARY:StMU Drama Presents - Burrows of the Mind
DESCRIPTION:Burrows of the Mind – Written and Performed by The STMU Drama 203 Acting Ensemble\nDuring a weekend retreat an eclectic and colourful group of women forge friendships\, confront themselves and each other\, as they face the challenge to grow. But\, on their compelling journey together things don’t always go as planned while sharing thoughts\, feelings and laughs with friends old and new.\n\nPURCHASE TICKETS HERE
URL:https://stmu.ca/event/stmu-drama-presents-burrows-of-the-mind/2025-03-29/2/
LOCATION:St. Mary’s University Campus – Owerko Hall\, 14500 Bannister Road\, Calgary\, Alberta\, T2X1Z4\, Canada
CATEGORIES:Drama
ATTACH;FMTTYPE=image/jpeg:https://stmu.ca/wp-content/uploads/2025/02/Burrows_20250227_223022_0000.jpg
END:VEVENT
END:VCALENDAR