BEGIN:VCALENDAR
VERSION:2.0
PRODID:-//St. Mary&#039;s University - ECPv6.7.0//NONSGML v1.0//EN
CALSCALE:GREGORIAN
METHOD:PUBLISH
X-WR-CALNAME:St. Mary&#039;s University
X-ORIGINAL-URL:https://stmu.ca
X-WR-CALDESC:Events for St. Mary&#039;s University
REFRESH-INTERVAL;VALUE=DURATION:PT1H
X-Robots-Tag:noindex
X-PUBLISHED-TTL:PT1H
BEGIN:VTIMEZONE
TZID:UTC
BEGIN:STANDARD
TZOFFSETFROM:+0000
TZOFFSETTO:+0000
TZNAME:UTC
DTSTART:20240101T000000
END:STANDARD
TZID:UTC
BEGIN:STANDARD
TZOFFSETFROM:+0000
TZOFFSETTO:+0000
TZNAME:UTC
DTSTART:20240101T000000
END:STANDARD
END:VTIMEZONE
BEGIN:VEVENT
DTSTART;TZID=UTC:20240829T083000
DTEND;TZID=UTC:20240829T180000
DTSTAMP:20260420T062818
CREATED:20240415T204456Z
LAST-MODIFIED:20240814T122932Z
UID:10000034-1724920200-1724954400@stmu.ca
SUMMARY:St. Mary's University Annual Golf Tournament
DESCRIPTION:Join us for our annual Golf Tournament in support of enhancing the student experience at St. Mary’s. Take on 18 holes of golf surrounded by unmatched views of the majestic Rocky Mountains\, concluding with prizes and a silent auction. \nClick here to purchase tickets\n\n\n \n\n\n\nSponsors\n\n\n\n \n\n\n\n\n\nBreakfast Sponsor:\n\n\n\n\n\n\n\n\n\nPin Sponsor:\n\n\n\n\n\n\n\n\n\nTee Gift Sponsor:\n\n\n\n\n\n\n\n\n\n\n\nCart Sponsor:\n\n\n\n\n\n\n\n\n\nHole in One Sponsor:\n\n\n\n\n\n\n\n\n\nBeverage Sponsor:\n\n\n\n\n\n\n\n\n\nLongest Drive Sponsor:\n\n\n\n\n \n\n\n\n\n\n\n\n\n\n \n\n\n\n\nHole Sponsors:\n\n\n\n\n\n\n\n\n\n\n\n\n\n\n\n\n\n\n\n\n\n\n\n\n\n\n\n\n\n\n\n\n\n\n\n\n\n\n\n\n\n\n\n\n\n\n\n\n\n\n\nPrint Sponsor:\n\n\n\n\n \n\n\n\n\n\n\n\n\n\n 
URL:https://stmu.ca/event/st-marys-university-annual-golf-tournament/
LOCATION:Silvertip Resort\, 2000 Silvertip Trail\, Canmore\, Alberta\, T1W 3J4\, Canada
ATTACH;FMTTYPE=image/jpeg:https://stmu.ca/wp-content/uploads/2024/04/StMU-Golf_SocialMedia_1080x1080.jpg
END:VEVENT
BEGIN:VEVENT
DTSTART;TZID=UTC:20240323T190000
DTEND;TZID=UTC:20240323T210000
DTSTAMP:20260420T062818
CREATED:20240223T032423Z
LAST-MODIFIED:20240311T202559Z
UID:10000024-1711220400-1711227600@stmu.ca
SUMMARY:StMU Drama presents - Happy Kamperz
DESCRIPTION:  \nWritten and performed by our Drama 203 ensemble. \nHilarity abounds as a group of students seek fun and adventure during a university camping trip. Along the way they face life’s challenges while sharing their thoughts\, feelings and lots of laughs- with friends old and new. A highly entertaining romp: funny and poignant. \n 
URL:https://stmu.ca/event/happykamperz/2024-03-23/2/
LOCATION:Silvertip Resort\, 2000 Silvertip Trail\, Canmore\, Alberta\, T1W 3J4\, Canada
CATEGORIES:Drama
END:VEVENT
BEGIN:VEVENT
DTSTART;TZID=UTC:20240323T140000
DTEND;TZID=UTC:20240323T160000
DTSTAMP:20260420T062818
CREATED:20240223T032423Z
LAST-MODIFIED:20240311T202559Z
UID:10000023-1711202400-1711209600@stmu.ca
SUMMARY:StMU Drama presents - Happy Kamperz
DESCRIPTION:  \nWritten and performed by our Drama 203 ensemble. \nHilarity abounds as a group of students seek fun and adventure during a university camping trip. Along the way they face life’s challenges while sharing their thoughts\, feelings and lots of laughs- with friends old and new. A highly entertaining romp: funny and poignant. \n 
URL:https://stmu.ca/event/happykamperz/2024-03-23/1/
LOCATION:Silvertip Resort\, 2000 Silvertip Trail\, Canmore\, Alberta\, T1W 3J4\, Canada
CATEGORIES:Drama
END:VEVENT
BEGIN:VEVENT
DTSTART;TZID=UTC:20240322T190000
DTEND;TZID=UTC:20240322T210000
DTSTAMP:20260420T062818
CREATED:20240315T015912Z
LAST-MODIFIED:20240323T042820Z
UID:10000025-1711134000-1711141200@stmu.ca
SUMMARY:StMU Drama presents - Happy Kamperz
DESCRIPTION:  \nWritten and performed by our Drama 203 ensemble. \nHilarity abounds as a group of students seek fun and adventure during a university camping trip. Along the way they face life’s challenges while sharing their thoughts\, feelings and lots of laughs- with friends old and new. A highly entertaining romp: funny and poignant. \nOnline ticket sales have ended.
URL:https://stmu.ca/event/happykamperz-2/
LOCATION:Silvertip Resort\, 2000 Silvertip Trail\, Canmore\, Alberta\, T1W 3J4\, Canada
CATEGORIES:Drama
END:VEVENT
END:VCALENDAR